BEGIN:VCALENDAR
VERSION:2.0
PRODID:-//hacksw/handcal//NONSGML v1.0//EN
BEGIN:VEVENT
UID:04f8a9e4647edb2a11f73c0ba9df4e47
DTSTAMP:20260420T103324Z

DTSTART:20200725T000000
DTEND:20200725T235959
SUMMARY:Stonehenge
DESCRIPTION:Stonehenge Festival

X-ALT-DESC;FMTTYPE=text/html:<!DOCTYPE HTML PUBLIC "-//W3C//DTD HTML 3.2//EN">\n<HTML>\n<HEAD>\n<META NAME="Generator" CONTENT="MS Exchange Server version 08.00.0681.000">\n<TITLE></TITLE>\n</HEAD>\n<BODY>\n<!-- Converted from text/rtf format -->\n\n<p>Stonehenge Festival</p>\n\n</BODY>\n</HTML>

LOCATION:Stationsplein, 8331 Steenwijk, Nederland
END:VEVENT

END:VCALENDAR
