BEGIN:VCALENDAR
VERSION:2.0
PRODID:-//hacksw/handcal//NONSGML v1.0//EN
BEGIN:VEVENT
UID:dff46de47aa1ef13cb81b03d619a53ea
DTSTAMP:20260420T103312Z

DTSTART:20200717T000000
DTEND:20200718T235959
SUMMARY:Dynamo Metal Fest
DESCRIPTION:Dynamo Metalfest

X-ALT-DESC;FMTTYPE=text/html:<!DOCTYPE HTML PUBLIC "-//W3C//DTD HTML 3.2//EN">\n<HTML>\n<HEAD>\n<META NAME="Generator" CONTENT="MS Exchange Server version 08.00.0681.000">\n<TITLE></TITLE>\n</HEAD>\n<BODY>\n<!-- Converted from text/rtf format -->\n\n<p>Dynamo Metalfest</p>\n\n</BODY>\n</HTML>

LOCATION:Antoon Coolenlaan 3, 5644 RX Eindhoven, Nederland
END:VEVENT

END:VCALENDAR
