BEGIN:VCALENDAR
VERSION:2.0
PRODID:-//hacksw/handcal//NONSGML v1.0//EN
BEGIN:VEVENT
UID:50797a4fe34db3764162cc67d2f937a2
DTSTAMP:20260420T103341Z

DTSTART:20181103T110200
DTEND:20181103T110200
SUMMARY:MUSIC FROM HELL 2018
DESCRIPTION:The Music From Hell festival returns. This time in Rijen NL.\n Confirmed bands until now are:\n BÜTCHER - Speed Metal from BE \n and\n DEATHFIST - Thrash Metal fom DE\n \n MORE TBA SOON

X-ALT-DESC;FMTTYPE=text/html:<!DOCTYPE HTML PUBLIC "-//W3C//DTD HTML 3.2//EN">\n<HTML>\n<HEAD>\n<META NAME="Generator" CONTENT="MS Exchange Server version 08.00.0681.000">\n<TITLE></TITLE>\n</HEAD>\n<BODY>\n<!-- Converted from text/rtf format -->\n\n<p><span class="_4n-j _3cht fsl" data-testid="event-permalink-details">The Music From Hell festival returns. This time in Rijen NL.<br /> Confirmed bands until now are:<br /> <a href="https://www.facebook.com/Bütcher-Speed-Metal-225752547610482/" target="_blank" rel="noopener">BÜTCHER</a> - Speed Metal from BE <br /> and<br /> <a href="https://www.facebook.com/deathfistgermany" target="_blank" rel="noopener">DEATHFIST</a> - Thrash Metal fom DE<br /> <br /> MORE TBA SOON</span></p>\n\n</BODY>\n</HTML>

LOCATION:Rijen, Nederland
END:VEVENT

END:VCALENDAR
